BEGIN:VCALENDAR
VERSION:2.0
PRODID:-//Hudson River Boat &amp; Yacht Club Association - ECPv6.15.12.2//NONSGML v1.0//EN
CALSCALE:GREGORIAN
METHOD:PUBLISH
X-ORIGINAL-URL:https://hrbyca.org
X-WR-CALDESC:Events for Hudson River Boat &amp; Yacht Club Association
REFRESH-INTERVAL;VALUE=DURATION:PT1H
X-Robots-Tag:noindex
X-PUBLISHED-TTL:PT1H
BEGIN:VTIMEZONE
TZID:America/New_York
BEGIN:DAYLIGHT
TZOFFSETFROM:-0500
TZOFFSETTO:-0400
TZNAME:EDT
DTSTART:20170312T070000
END:DAYLIGHT
BEGIN:STANDARD
TZOFFSETFROM:-0400
TZOFFSETTO:-0500
TZNAME:EST
DTSTART:20171105T060000
END:STANDARD
BEGIN:DAYLIGHT
TZOFFSETFROM:-0500
TZOFFSETTO:-0400
TZNAME:EDT
DTSTART:20180311T070000
END:DAYLIGHT
BEGIN:STANDARD
TZOFFSETFROM:-0400
TZOFFSETTO:-0500
TZNAME:EST
DTSTART:20181104T060000
END:STANDARD
BEGIN:DAYLIGHT
TZOFFSETFROM:-0500
TZOFFSETTO:-0400
TZNAME:EDT
DTSTART:20190310T070000
END:DAYLIGHT
BEGIN:STANDARD
TZOFFSETFROM:-0400
TZOFFSETTO:-0500
TZNAME:EST
DTSTART:20191103T060000
END:STANDARD
BEGIN:DAYLIGHT
TZOFFSETFROM:-0500
TZOFFSETTO:-0400
TZNAME:EDT
DTSTART:20200308T070000
END:DAYLIGHT
BEGIN:STANDARD
TZOFFSETFROM:-0400
TZOFFSETTO:-0500
TZNAME:EST
DTSTART:20201101T060000
END:STANDARD
BEGIN:DAYLIGHT
TZOFFSETFROM:-0500
TZOFFSETTO:-0400
TZNAME:EDT
DTSTART:20210314T070000
END:DAYLIGHT
BEGIN:STANDARD
TZOFFSETFROM:-0400
TZOFFSETTO:-0500
TZNAME:EST
DTSTART:20211107T060000
END:STANDARD
BEGIN:DAYLIGHT
TZOFFSETFROM:-0500
TZOFFSETTO:-0400
TZNAME:EDT
DTSTART:20220313T070000
END:DAYLIGHT
BEGIN:STANDARD
TZOFFSETFROM:-0400
TZOFFSETTO:-0500
TZNAME:EST
DTSTART:20221106T060000
END:STANDARD
BEGIN:DAYLIGHT
TZOFFSETFROM:-0500
TZOFFSETTO:-0400
TZNAME:EDT
DTSTART:20230312T070000
END:DAYLIGHT
BEGIN:STANDARD
TZOFFSETFROM:-0400
TZOFFSETTO:-0500
TZNAME:EST
DTSTART:20231105T060000
END:STANDARD
END:VTIMEZONE
BEGIN:VEVENT
DTSTART;TZID=America/New_York:20220820T100000
DTEND;TZID=America/New_York:20220820T220000
DTSTAMP:20260422T143845
CREATED:20220704T142836Z
LAST-MODIFIED:20220704T142836Z
UID:2303-1660989600-1661032800@hrbyca.org
SUMMARY:Marlboro Yacht Club Summer Bash
DESCRIPTION:2022-5 Marlboro Summer Bash pdf linked (2)
URL:https://hrbyca.org/event/marlboro-yacht-club-summer-bash/
LOCATION:Marlboro Yacht Club\, 144 Dock Road\, Marlboro\,\, NY\, 12524\, United States
CATEGORIES:Club Events
END:VEVENT
BEGIN:VEVENT
DTSTART;TZID=America/New_York:20220806T150000
DTEND;TZID=America/New_York:20220806T170000
DTSTAMP:20260422T143845
CREATED:20220704T142540Z
LAST-MODIFIED:20220704T142540Z
UID:2300-1659798000-1659805200@hrbyca.org
SUMMARY:Plein Air Paint Out and Auction
DESCRIPTION:2022PleinAirPaintOutFLYER
URL:https://hrbyca.org/event/plein-air-paint-out-and-auction-2/
LOCATION:Shattemuc Yacht Club\, Westerly Road\, Ossining\, NY\, 10562\, United States
CATEGORIES:Club Events
END:VEVENT
BEGIN:VEVENT
DTSTART;TZID=America/New_York:20220730T203000
DTEND;TZID=America/New_York:20220730T223000
DTSTAMP:20260422T143845
CREATED:20220704T142221Z
LAST-MODIFIED:20220704T142221Z
UID:2297-1659213000-1659220200@hrbyca.org
SUMMARY:Christmas in July
DESCRIPTION:WIBC Christmas in July 30- 2022
URL:https://hrbyca.org/event/christmas-in-july/
LOCATION:Washington Irving Boat Club\, 238 Green Street\, Tarrytown\, NY\, 10591\, United States
CATEGORIES:Club Events
END:VEVENT
BEGIN:VEVENT
DTSTART;VALUE=DATE:20220723
DTEND;VALUE=DATE:20220724
DTSTAMP:20260422T143845
CREATED:20220330T141922Z
LAST-MODIFIED:20220330T141922Z
UID:2188-1658534400-1658620799@hrbyca.org
SUMMARY:HRBYCA Rendezvous
DESCRIPTION:Shattemuc Yacht Club to host our third Rendezvous.  Come by land or sea.  More information to follow.
URL:https://hrbyca.org/event/hrbyca-rendezvous-2/
LOCATION:Shattemuc Yacht Club\, Westerly Road\, Ossining\, NY\, 10562\, United States
CATEGORIES:Club Events
END:VEVENT
BEGIN:VEVENT
DTSTART;VALUE=DATE:20210807
DTEND;VALUE=DATE:20210809
DTSTAMP:20260422T143845
CREATED:20210729T184709Z
LAST-MODIFIED:20210729T184709Z
UID:1934-1628294400-1628467199@hrbyca.org
SUMMARY:HRBYCA Rendezvous
DESCRIPTION:
URL:https://hrbyca.org/event/hrbyca-rendezvous/
LOCATION:Shattemuc Yacht Club\, Westerly Road\, Ossining\, NY\, 10562\, United States
CATEGORIES:Club Events,River Events
END:VEVENT
BEGIN:VEVENT
DTSTART;TZID=America/New_York:20190907T110000
DTEND;TZID=America/New_York:20190907T160000
DTSTAMP:20260422T143845
CREATED:20190730T181520Z
LAST-MODIFIED:20190807T233241Z
UID:1240-1567854000-1567872000@hrbyca.org
SUMMARY:Hudson River Day at Croton Yacht Club
DESCRIPTION:The Croton Yacht Club will be sponsoring its annual “Hudson River Day” celebration on Saturday\, September 7th\, from 11 AM – 4 PM at the Croton Yacht Club located at 6 Elliott Way in Croton-on-Hudson. The mission of the event is to promote interest in the history and ecology of the river\, to cultivate future local environmental leaders and to promote\, enhance and protect river related recreational resources. \nThere will be events and exhibits throughout the day targeting both children and adults\, focusing on the history and ecology of the river. \n Click Here for FLYER \nEvents and exhibits will include: a seining exhibition where local marine life will be captured\, displayed and later released; viewing tanks where local marine life can be identified and observed; hands-on exhibits for children such as toy sailboat making\, fossil making; sail boat rides\, and local artist displays and sales. Also\, educational seminars will be conducted by NYSDEC Fisheries Biologist\, Amanda Higgs on the Hudson River Sturgeon and Riverkeeper’s Nicholas Mitch who will speak about the ecological impact of the controversial proposal to build storm surge barriers at the mouth of the Hudson River. \nFree sailboat rides\, will be offered by Ferry Sloops aboard their 22’ sloop-rigged Catboat the “Whimbrel” on a first come first served basis. The sails will depart at 11AM\, 12PM\, 1PM\, 2PM and 3PM. Guests can sign up at the Ferry Sloops table in the tent beginning at 10:00AM for any of the day’s scheduled sail times. Limit of 4 passengers per sail. Passenger age requirement: must be at least 12 years old\, under 18 years old must be accompanied by parent or adult guardian. \nThere will also be a youth fishing clinic and contest sponsored by the Hudson River Fisherman’s Association and the Yacht Club.  Volunteers will be present during the hours of 11:30 PM and 3:30 PM and provide the use of fishing equipment and bait\, free of charge. Fishing rod and reel combinations will also be awarded as prizes. All youths wishing to fish at the Yacht Club must be accompanied by an adult. \nThe Croton Yacht Club looks forward to coordinating this event annually because it provides the membership and local exhibitors the opportunity to share their river related knowledge and expertise with the community\, especially the children. The organization realizes that only through this transfer of knowledge can it safeguard the future of this great resource\, the Hudson River. \nFood and beverages will be available including the best fish chowder on the Hudson. Admission is free so please come and join us in a fun filled\, educational and family focused event you will surely enjoy. Environmental organizations\, local craft vendors and artists are welcome. For additional information please contact Dennis Kooney at dennis@kooney.net or call 914-271-6384.
URL:https://hrbyca.org/event/hudson-river-day-2/
LOCATION:Croton Yacht Club\, 6 Elliot Way\, Croton-On-Hudson\, NY\, 10520\, United States
CATEGORIES:Club Events
END:VEVENT
BEGIN:VEVENT
DTSTART;VALUE=DATE:20190816
DTEND;VALUE=DATE:20190819
DTSTAMP:20260422T143845
CREATED:20190528T193445Z
LAST-MODIFIED:20190528T202559Z
UID:1146-1565913600-1566172799@hrbyca.org
SUMMARY:2019 HRBYCA Rendezvous at Shattemuc Yacht Club
DESCRIPTION:Dear HRBYCA Clubs: \nOn behalf of your HRBYCA Board and in support of our goal to promote inter-club activity\, the HRBYCA Summer Rendezvous and Barbecue at Shattemuc Yacht Club (SYC) will be held on Saturday\, August 17 in Ossining\, NY. \nThe Rendezvous will give us the opportunity to enjoy cruising on the river and the camaraderie of fellow HRBYCA club members\, and we hope spark renewed interest and enjoyment in gathering as a group each summer. \nThe plan is to for HRBYCA club members to cruise to SYC on Saturday and enjoy the club’s great amenities\, including a protected marina\, Olympic style pool (lifeguard) and kiddie pool\, sandy beach\, fabulous shaded veranda\, clubhouse\, and clubhouse bar. We greatly encourage you to bring family members as the club has something for all ages. Saturday evening we’ll gather for a barbecue including hors d’oeuvres and cash bar. \nOne night’s dockage is provided complimentary (reciprocal) to HRBYCA club members. Anyone wishing to travel early and arrive on Friday is most welcome but dockage is additional. \nHere’s the schedule of events:\nFriday\, Aug. 16:  \n\n\n\nEarly bird arrivals (overnight dockage fee required); on your own to enjoy nearby restaurants (The Boathouse\, No3 Westerly Bar and Grill are both very walkable; reservations recommended)\n\n\n\nSaturday\, Aug. 17:  \n\n\n\nAll day: Arrivals at will to SYC and freedom to enjoy amenities at your leisure. Complimentary (reciprocal) dockage offered and RSVP registration is required.\n5:00pm: Social Hour: Hors d’oevres served on the SYC clubhouse veranda; cash bar.\n6:00pm: Barbecue dinner to include burgers\, chicken\, hot dogs\, salads\, sides\, non-alcoholic beverages; $20 per person; cash bar; you MUST register for Barbecue.\nEvening: Party with SYC members at clubhouse and docks; SYC floating dock project showcase (short informational discussion on docks).\n\n\n\nSunday\, Aug. 18:  \n\n\n\nMorning TBD: potential raft-up at Croton Point (great sandy beach)\nDepartures for home\n\n\n\nRSVP: Deadline to register is August 15. 1.) Go to Shattemucyc.org and on the right side midway down see calendar: HRBYCA Summer Rendezvous and Barbecue at SYC. 2.) Click to register for the Barbecue\, $20 per person\, to be paid by mail or online\, and 3.) Use the slip coupon code provided on registration page to proceed to the club’s Dockwa.com website slip reservation page. One night’s complimentary dockage is provided courtesy HRBYCA reciprocity and compliments of SYC. Regular rate is $2.50/foot is charged for any other nights. \nAdditional Trip Planning info: \nSYC website: http://www.shattemucyc.org/ \nAddress: Westerly Road\, Ossining\, NY 10562\nTelephone 914-941-8777\nLat 41’09’45″N\, Long 073’52’15″W \nFuel: 1.) Panco Fuel Dock\, Stony Point: located 0.3 miles north of red buoy #26 along southern shore of Stony Point Bay (Adjacent to Penny Bridge Marina). Look for the large white fuel tanks with a sixty-foot long sixteen-foot high red “Panco” sign on the side. 41º 13.30 N – 73º 57.56 W; 2.) Haverstraw Marina Fuel Dock\, Haverstraw: located 260º Off Red Buoy #26\, about 11 nautical miles north of the Tappan Zee Bridge\, monitors VHF Channel 09. \nThings to do and see in Ossining:\n\n\n\nhttp://www.hudsonriver.com/river-towns/westchester-county/ossining-ny\nA short walk up the street from SYC is the really cool Sing Sing Kill Greenway: https://www.inossining.com/parks/sing-sing-kill-greenway\nOssining Heritage walking tour\nOld Croton Aqueduct State Historic park\n\n\n\nLocal restaurants (very walkable):\nThe Boathouse\, https://ossiningboathouse.com/ (2 min walk)\nNo. 3 Westerly Bar & Grill: https://www.3westerly.com/ (5 min walk) \nRain Date: At this time we are unable to schedule a rain date\, so this event will only be cancelled if there is snowstorm\, hurricane or earthquake. \nYour board is also welcoming for volunteers to join the Rendezvous planning committee so please email dscroft3@gmail..com  if interested. \nWe thank you in advance for your support and look forward to seeing you! Our thanks to SYC for being gracious hosts\, donating their members time\, and working to ensure the event is a success! \nSincerely- \nHRBYCA Summer Rendezvous Planning Committee \nS. Croft\, C. Young
URL:https://hrbyca.org/event/2019-hrbyca-rendezvous-at-shattemuc-yacht-club/
LOCATION:Shattemuc Yacht Club\, Westerly Road\, Ossining\, NY\, 10562\, United States
CATEGORIES:Club Events
END:VEVENT
BEGIN:VEVENT
DTSTART;TZID=America/New_York:20190803T150000
DTEND;TZID=America/New_York:20190803T170000
DTSTAMP:20260422T143845
CREATED:20190724T203055Z
LAST-MODIFIED:20190724T203055Z
UID:1235-1564844400-1564851600@hrbyca.org
SUMMARY:Shattemuc YC Fund Raiser for Junior Sailing Academy
DESCRIPTION:All are welcome to the Shattemuc YC Plein Air Paint Out and Auction.
URL:https://hrbyca.org/event/shattemuc-yc-fund-raiser-for-junior-sailing-academy/
LOCATION:Shattemuc Yacht Club\, Westerly Road\, Ossining\, NY\, 10562\, United States
CATEGORIES:Club Events
END:VEVENT
BEGIN:VEVENT
DTSTART;VALUE=DATE:20190719
DTEND;VALUE=DATE:20190721
DTSTAMP:20260422T143845
CREATED:20190308T192034Z
LAST-MODIFIED:20190308T192342Z
UID:1013-1563494400-1563667199@hrbyca.org
SUMMARY:New Hamburg Yacht Club 150th Anniversary
DESCRIPTION:The New Hamburg Yacht Club will be celebrating its 150th. Anniversary on July 19 and July 20\, 2019.\nFor info please visit our Web site NHYC1869.com then access our Social Calendar and scroll down to 150th Anniversary week end.
URL:https://hrbyca.org/event/new-hamburg-yacht-club-150th-anniversary/
LOCATION:NY
CATEGORIES:Club Events
END:VEVENT
BEGIN:VEVENT
DTSTART;TZID=America/New_York:20190518T190000
DTEND;TZID=America/New_York:20190518T220000
DTSTAMP:20260422T143845
CREATED:20190512T152325Z
LAST-MODIFIED:20190512T152325Z
UID:1095-1558206000-1558216800@hrbyca.org
SUMMARY:Croton Yacht Club Annual College Scholarship Fundraiser
DESCRIPTION:The Croton Yacht Club will hold its annual college scholarship fundraiser on Saturday\, May 18 from 7:00 PM to 10:00 PM at their clubhouse located at 6 Elliott Way in Croton-on-Hudson. \nThe event will include an all you can eat pasta night\, with various pasta dishes\, salad\, coffee and dessert. A silent auction will be conducted during the evening as well as a 50-50 fund raising raffle. A donation of $20 for adults\, $10 for teens is requested; children 12 and under are free. All net proceeds will go to the Croton Yacht Club College Scholarship Fund. \nThe mission of the scholarship grant is to promote studies in the marine\, maritime\, environmental science and/or environmental engineering fields; to cultivate future local environmental leaders and advocates; to develop future stewards of local marine resources and to enhance\, promote and protect local river related recreational resources. \nA one-time grant(s) totaling two thousand dollars ($2\,000.00) will be awarded to a 2019 Croton-Harmon High School graduate(s) who is pursuing undergraduate college accredited courses in the aforementioned fields of study. The Yacht Club has awarded $15\,000 in grants since the scholarship’s inception in 2011. \nIf you would like to donate items for the silent auction or if you would like to donate to the scholarship fund directly\, please contact Dennis Kooney at dennis@kooney.net or call 271-6384. \n 
URL:https://hrbyca.org/event/croton-yacht-club-annual-college-scholarship-fundraiser/
LOCATION:Croton Yacht Club\, 6 Elliot Way\, Croton-On-Hudson\, NY\, 10520\, United States
CATEGORIES:Club Events
END:VEVENT
BEGIN:VEVENT
DTSTART;VALUE=DATE:20190324
DTEND;VALUE=DATE:20190325
DTSTAMP:20260422T143845
CREATED:20181114T001232Z
LAST-MODIFIED:20190310T181944Z
UID:879-1553385600-1553471999@hrbyca.org
SUMMARY:Commodore's Brunch
DESCRIPTION:Commodore’s Brunch will be held on March 24\, 2019 at The Thayer Hotel located at West Point\, NY.  Reservation forms with details will be sent out by the event chairwoman Lynn Glassman.  Save the date !!! 2019 Brunch Invitation order form pdf \nClick the flyer to download
URL:https://hrbyca.org/event/commodores-brunch/
LOCATION:Thayer Hotel West Point\, 674 Thayer Road\, West Point\, NY\, 10996
CATEGORIES:Board of Directors Meeting,Club Events,Meetings,River Events
END:VEVENT
BEGIN:VEVENT
DTSTART;TZID=America/New_York:20190223T083000
DTEND;TZID=America/New_York:20190223T163000
DTSTAMP:20260422T143845
CREATED:20190128T191837Z
LAST-MODIFIED:20190128T192859Z
UID:992-1550910600-1550939400@hrbyca.org
SUMMARY:USCGA Boating Safety Class
DESCRIPTION:USCGA will present the Boating Safety Course at Minisceongo Yacht Club on Sat\, Feb 23 from 8:30 am to 4:30 pm. The class will cost: $30.00 per person\, including lunch\, payable at the door. You must be 14 or older to take the class.\nPlease email Keira Burtch at info@minisceongoyc.org if you plan to attend. (click on “find out more” for links) \nThis course leads to the NY State Certificate and is a good way to sharpen and refresh your skills. \nNY State Rules and Regulations:\nhttps://www.boat-ed.com/newyork/boating_law.html \nEveryone born after May 1\, 1996 must have certificate to operate a boat with a motor. All people over age 14 must have this certificate to operate a PWC.
URL:https://hrbyca.org/event/uscga-boating-safety-class/
LOCATION:Minisceongo Yacht Club\, 83 Grassy Point Road\, Stony Point\, NY\, 10980\, United States
CATEGORIES:Club Events
END:VEVENT
BEGIN:VEVENT
DTSTART;TZID=America/New_York:20190101T140000
DTEND;TZID=America/New_York:20190101T170000
DTSTAMP:20260422T143845
CREATED:20181114T201259Z
LAST-MODIFIED:20181114T201538Z
UID:890-1546351200-1546362000@hrbyca.org
SUMMARY:Keyport Yacht Club New Year Toast
DESCRIPTION:Toast the New Year with our traditional Egg Nog Party\, at 2pm on Tuesday\, January 1st!
URL:https://hrbyca.org/event/keyport-yacht-club-new-year-toast/
LOCATION:Keyport Yacht Club\, 115 First Street\, Keyport\, NJ\, 07735
CATEGORIES:Club Events
END:VEVENT
BEGIN:VEVENT
DTSTART;TZID=America/New_York:20181214T190000
DTEND;TZID=America/New_York:20181214T230000
DTSTAMP:20260422T143845
CREATED:20181114T201127Z
LAST-MODIFIED:20181114T201550Z
UID:888-1544814000-1544828400@hrbyca.org
SUMMARY:Keyport Yacht Club Employee Appreciation Party
DESCRIPTION:Friday\, December 14th \nThe Employee Appreciation Party begins at 7pm. All members are invited to join the Officers and Committee Chairs as we wish our employees and their families well during the holiday season. This is a great party to express our thanks for their dedicated service to the Keyport Yacht Club. Bring a dish to share with everyone!
URL:https://hrbyca.org/event/keyport-yacht-club-employee-appreciation-party/
LOCATION:Keyport Yacht Club\, 115 First Street\, Keyport\, NJ\, 07735
CATEGORIES:Club Events
END:VEVENT
BEGIN:VEVENT
DTSTART;TZID=America/New_York:20181209T140000
DTEND;TZID=America/New_York:20181209T170000
DTSTAMP:20260422T143845
CREATED:20181114T200833Z
LAST-MODIFIED:20181114T201559Z
UID:884-1544364000-1544374800@hrbyca.org
SUMMARY:Keyport Yacht Club Kids Christmas Party
DESCRIPTION:Sunday\, December 9th \nThis is the kid’s chance to ring in the holiday with KYC’s Children’s Christmas Party! Beginning at 2pm bring your kids in to have a great afternoon of crafts and holiday fun! Also bring awrapped gift for your child to receive during the party\, and asnack to share with everyone.
URL:https://hrbyca.org/event/keyport-yacht-club-adult-christmas-party/
LOCATION:Keyport Yacht Club\, 115 First Street\, Keyport\, NJ\, 07735
CATEGORIES:Club Events
END:VEVENT
BEGIN:VEVENT
DTSTART;TZID=America/New_York:20181208T190000
DTEND;TZID=America/New_York:20181208T230000
DTSTAMP:20260422T143845
CREATED:20181114T201512Z
LAST-MODIFIED:20181114T201512Z
UID:892-1544295600-1544310000@hrbyca.org
SUMMARY:Keyport Yacht Club Adult Christmas Party
DESCRIPTION:Saturday\, December 8th \nBeginning at 7pm is the KYC Adult Christmas Party. \nCome and enjoy an evening at our beautifully decorated club\, and get into the holiday spitit with all your fellow members. Bring a pot-luck dish to share with everyone.
URL:https://hrbyca.org/event/keyport-yacht-club-adult-christmas-party-2/
LOCATION:Keyport Yacht Club\, 115 First Street\, Keyport\, NJ\, 07735
CATEGORIES:Club Events
END:VEVENT
BEGIN:VEVENT
DTSTART;TZID=America/New_York:20181130T180000
DTEND;TZID=America/New_York:20181130T220000
DTSTAMP:20260422T143845
CREATED:20181114T200645Z
LAST-MODIFIED:20181114T200645Z
UID:881-1543600800-1543615200@hrbyca.org
SUMMARY:Keyport Yacht Club "Deck the Halls"
DESCRIPTION:Friday\, November 30th \nBeginning at 6pm will be Deck The Halls. \nWe need many volunteers to help put up the club’s decorations. \nThis is a pot-luck function\, so bring in that holiday dish you’ve always wanted to try\, and share it with all the other decorating volunteers!­ \n  \n 
URL:https://hrbyca.org/event/keyport-yacht-club-deck-the-halls/
LOCATION:Keyport Yacht Club\, 115 First Street\, Keyport\, NJ\, 07735
CATEGORIES:Club Events
END:VEVENT
BEGIN:VEVENT
DTSTART;TZID=America/New_York:20180908T110000
DTEND;TZID=America/New_York:20180908T160000
DTSTAMP:20260422T143845
CREATED:20180812T145923Z
LAST-MODIFIED:20180812T145923Z
UID:698-1536404400-1536422400@hrbyca.org
SUMMARY:Hudson River Day
DESCRIPTION:2018 “Hudson River Day”  \nThe Croton Yacht Club will be sponsoring its annual “Hudson River Day” celebration on Saturday\, September 8th\, from 11 AM – 4 PM at the Croton Yacht Club located at 6 Elliott Way in Croton-on-Hudson.  The mission of the event is to promote interest in the history and ecology of the river\, to cultivate future local environmental leaders and to promote\, enhance and protect river related recreational resources. \nThere will be events and exhibits throughout the day targeting both children and adults\, focusing on the history and ecology of the river. \nEvents and exhibits will include: a seining exhibition where local marine life will be captured\, displayed and later released; viewing tanks where local marine life can be identified and observed; hands-on exhibits for children such as toy sailboat making\, fossil making; sail boat rides\, and local artist displays and sales.  A presentation\, “Commercial Fishing on the Hudson” will be made by Scott Craven. \nFree sailboat rides\, will be offered by Ferry Sloops aboard their 22’ sloop-rigged Catboat the “Whimbrel” on a first come first served basis. The sails will depart at 11AM\, 12PM\, 1PM\, 2PM and 3PM. Guests can sign up at the Ferry Sloops table in the tent beginning at 10:00AM for any of the day’s scheduled sail times. Limit of 4 passengers per sail. Passenger age requirement: must be at least 12 years old\, under 18 years old must be accompanied by parent or adult guardian. \nThere will also be a youth fishing clinic and contest sponsored by the Hudson River Fisherman’s Association and the Yacht Club.  Volunteers will be present during the hours of 11:30 PM and 3:30 PM and provide the use of fishing equipment and bait\, free of charge. Fishing rod and reel combinations will also be awarded as prizes. All youths wishing to fish at the Yacht Club must be accompanied by an adult. \nThe Croton Yacht Club looks forward to coordinating this event annually because it provides the membership and local exhibitors the opportunity to share their river related knowledge and expertise with the community\, especially the children. The organization realizes that only through this transfer of knowledge can it safeguard the future of this great resource\, the Hudson River. \nFood and beverages will be available including the best fish chowder on the Hudson. Admission is free so please come and join us in a fun filled\, educational and family focused event you will surely enjoy. Environmental organizations\, local craft vendors and artists are welcome. For additional information please contact Dennis Kooney at dennis@kooney.net or call 914-271-6384. \n 
URL:https://hrbyca.org/event/hudson-river-day/
LOCATION:Croton Yacht Club\, 6 Elliot Way\, Croton-On-Hudson\, NY\, 10520\, United States
CATEGORIES:Club Events,River Events
END:VEVENT
BEGIN:VEVENT
DTSTART;TZID=America/New_York:20180825T150000
DTEND;TZID=America/New_York:20180825T200000
DTSTAMP:20260422T143845
CREATED:20180801T141830Z
LAST-MODIFIED:20180801T142310Z
UID:660-1535209200-1535227200@hrbyca.org
SUMMARY:August Summer Party at Marlboro Yacht Club
DESCRIPTION:Entertainment: \n\nDJ’s Dan and Ann\nHorseshoes\, Cornhole & games/contests by the DJs\nGames and raffles\n\nDinner served at 5pm \n\nMenu: Roast Beef\, rice\, pasta primavera\, roasted veggies\, mac and cheese\, salad\, rolls dessert.\nPrice includes Saturday Night dockage for guest boaters.\nBreakfast available 9am Sunday morning for $5.\nPlease Contact Peter Schaeffer for reservations\n\n$25 advance notice\, $30 at the door\, $15 for ages 12-18.
URL:https://hrbyca.org/event/august-summer-party-at-marlboro-yacht-club/
LOCATION:Marlboro Yacht Club\, 144 Dock Road\, Marlboro\,\, NY\, 12524\, United States
CATEGORIES:Club Events
END:VEVENT
BEGIN:VEVENT
DTSTART;TZID=America/New_York:20180804T150000
DTEND;TZID=America/New_York:20180804T190000
DTSTAMP:20260422T143845
CREATED:20180731T130420Z
LAST-MODIFIED:20180803T234358Z
UID:653-1533394800-1533409200@hrbyca.org
SUMMARY:Plein Air Paint Out and Auction
DESCRIPTION:Fundraiser for the Junior Sailing Academy – Available slips free for boats attending the event.\nPreview at 3:00 – Auction at 5:00\nShattemuc Yacht Club
URL:https://hrbyca.org/event/plein-air-paint-out-and-auction/
LOCATION:Shattemuc Yacht Club\, Westerly Road\, Ossining\, NY\, 10562\, United States
CATEGORIES:Club Events
ATTACH;FMTTYPE=image/jpeg:https://hrbyca.org/wp-content/uploads/2018/07/PleinAirPaintOutPoster2018Email.jpeg
END:VEVENT
END:VCALENDAR